BEGIN:VCALENDAR
VERSION:2.0
PRODID:-//Event-List//NONSGML Event-List 3.8.3//DE
CALSCALE:GREGORIAN
METHOD:PUBLISH
BEGIN:VEVENT
DTSTAMP:20260424T103543
DTSTART:20150704T090000
UID:20260424T103543@wch77.de
SUMMARY:Arbeitseinsatz Spass un Nass 
CONTACT:WCH Hessenaue
LOCATION:Fritz Becker Bad,Zwischen Trebur und Astheim,65468 Trebur 
DESCRIPTION:Vereine aus der Gemeinde stellen sich vor.\nIn der Vergangenheit mit Live
  Musik.\nDer WCH mit Schnuppersurfen auf dem großen Becken.\nGesucht:
  Mitglieder die mithelfen im Schichtbetrieb.\n\n1. Schicht von 11-15 Uhr (4
  Pers.)\n2. Schicht von 15-19 Uhr (4 Pers.)\n3. Schicht ab 19 Uhr
  Aufräumarbeiten im Freibad (2 Pers.)\n\n
CATEGORIES:Surfclub
END:VEVENT
END:VCALENDAR
