BEGIN:VCALENDAR
VERSION:2.0
PRODID:-//Event-List//NONSGML Event-List 3.8.3//DE
CALSCALE:GREGORIAN
METHOD:PUBLISH
BEGIN:VEVENT
DTSTAMP:20260421T101710
DTSTART:20140628T090000
DTEND:20140628T180000
UID:20260421T101710@wch77.de
SUMMARY:Arbeitseinsatz Spass un Nass 
CONTACT:WCH Hessenaue
LOCATION:Fritz Becker Bad,Zwischen Trebur und Astheim,65468 Trebur 
DESCRIPTION:Vereine aus der Gemeinde stellen sich vor.\nIn der Vergangenheit mit Live
  Musik.\nDer WCH mit Schnuppersurfen auf dem großen Becken.\nGesucht:
  4 Mitglieder die mithelfen.\n\n
CATEGORIES:Surfclub
END:VEVENT
END:VCALENDAR
