BEGIN:VCALENDAR
VERSION:2.0
PRODID:-//Event-List//NONSGML Event-List 3.8.3//DE
CALSCALE:GREGORIAN
METHOD:PUBLISH
BEGIN:VEVENT
DTSTAMP:20260420T115231
DTSTART:20130518T130000
DTEND:20130518T160000
UID:20260420T115231@wch77.de
SUMMARY:3. VDWS-Grundscheinschulung
CONTACT:Windsurfing-Club-Hessenaue e.V. 1977,Reinhold
LOCATION:unser See
DESCRIPTION:
CATEGORIES:Schulung
END:VEVENT
END:VCALENDAR
