BEGIN:VCALENDAR
VERSION:2.0
PRODID:-//Event-List//NONSGML Event-List 3.8.3//DE
CALSCALE:GREGORIAN
METHOD:PUBLISH
BEGIN:VEVENT
DTSTAMP:20260420T190610
DTSTART:20130413T090000
DTEND:20130413T130000
UID:20260420T190610@wch77.de
SUMMARY:3. Arbeitseinsatz (Belegt)
CONTACT:Windsurfing-Club Hessenaue e.V. 1977  Gewässerwart
LOCATION:Unser Surfsee
DESCRIPTION:
CATEGORIES:See
END:VEVENT
END:VCALENDAR
